BEGIN:VCALENDAR
VERSION:2.0
PRODID:-//LEO Network//Training Calendar//EN
BEGIN:VEVENT
UID:event-2193@leo-network.com
DTSTAMP:20260423T110325Z
DTSTART:20230719T150000Z
DTEND:20230720T000000Z
SUMMARY:New Jersey: Legal Update Agency In-Service
DESCRIPTION:Law Enforcement Training
Hosted by: J Harris Academy of Police Training

View event details:
https://www.leo-network.com/event/new-jersey-legal-update-agency-in-service-atlantic-city-nj-2193/
LOCATION:Atlantic City, NJ
URL:https://www.leo-network.com/event/new-jersey-legal-update-agency-in-service-atlantic-city-nj-2193/
END:VEVENT
END:VCALENDAR
