BEGIN:VCALENDAR
VERSION:2.0
PRODID:-//LEO Network//Training Calendar//EN
BEGIN:VEVENT
UID:event-2196@leo-network.com
DTSTAMP:20260423T110023Z
DTSTART:20230719T150000Z
DTEND:20230720T000000Z
SUMMARY:New Jersey Motor Vehicle Law (Title 39)
DESCRIPTION:Law Enforcement Training
Hosted by: J Harris Academy of Police Training

View event details:
https://www.leo-network.com/event/new-jersey-motor-vehicle-law-title-39-clark-nj-2196/
LOCATION:Clark, NJ
URL:https://www.leo-network.com/event/new-jersey-motor-vehicle-law-title-39-clark-nj-2196/
END:VEVENT
END:VCALENDAR
