BEGIN:VCALENDAR
VERSION:2.0
PRODID:-//LEO Network//Training Calendar//EN
BEGIN:VEVENT
UID:event-2198@leo-network.com
DTSTAMP:20260423T150729Z
DTSTART:20230724T150000Z
DTEND:20230725T000000Z
SUMMARY:New Jersey Code of Criminal Justice (Title 2C)
DESCRIPTION:Law Enforcement Training
Hosted by: J Harris Academy of Police Training

View event details:
https://www.leo-network.com/event/new-jersey-code-of-criminal-justice-title-2c-toms-river-nj-2198/
LOCATION:Toms River, NJ
URL:https://www.leo-network.com/event/new-jersey-code-of-criminal-justice-title-2c-toms-river-nj-2198/
END:VEVENT
END:VCALENDAR
