BEGIN:VCALENDAR
VERSION:2.0
PRODID:-//LEO Network//Training Calendar//EN
BEGIN:VEVENT
UID:event-2199@leo-network.com
DTSTAMP:20260423T140858Z
DTSTART:20230726T150000Z
DTEND:20230727T000000Z
SUMMARY:New Jersey Code of Criminal Justice (Title 2C)
DESCRIPTION:Law Enforcement Training
Hosted by: J Harris Academy of Police Training

View event details:
https://www.leo-network.com/event/new-jersey-code-of-criminal-justice-title-2c-clark-nj-2199/
LOCATION:Clark, NJ
URL:https://www.leo-network.com/event/new-jersey-code-of-criminal-justice-title-2c-clark-nj-2199/
END:VEVENT
END:VCALENDAR
