BEGIN:VCALENDAR
VERSION:2.0
PRODID:-//LEO Network//Training Calendar//EN
BEGIN:VEVENT
UID:event-2201@leo-network.com
DTSTAMP:20260423T211607Z
DTSTART:20230731T150000Z
DTEND:20230702T000000Z
SUMMARY:New Jersey Case Law, In-Depth Two-Day Course
DESCRIPTION:Law Enforcement Training
Hosted by: J Harris Academy of Police Training

View event details:
https://www.leo-network.com/event/new-jersey-case-law-in-depth-two-day-course-toms-river-nj-2201/
LOCATION:Toms River, NJ
URL:https://www.leo-network.com/event/new-jersey-case-law-in-depth-two-day-course-toms-river-nj-2201/
END:VEVENT
END:VCALENDAR
