BEGIN:VCALENDAR
VERSION:2.0
PRODID:-//LEO Network//Training Calendar//EN
BEGIN:VEVENT
UID:event-2203@leo-network.com
DTSTAMP:20260423T134951Z
DTSTART:20230830T150000Z
DTEND:20230901T000000Z
SUMMARY:New Jersey Case Law, In-Depth Two-Day Course
DESCRIPTION:Law Enforcement Training
Hosted by: J Harris Academy of Police Training

View event details:
https://www.leo-network.com/event/new-jersey-case-law-in-depth-two-day-course-clark-nj-2203/
LOCATION:Clark, NJ
URL:https://www.leo-network.com/event/new-jersey-case-law-in-depth-two-day-course-clark-nj-2203/
END:VEVENT
END:VCALENDAR
