BEGIN:VCALENDAR
VERSION:2.0
PRODID:-//LEO Network//Training Calendar//EN
BEGIN:VEVENT
UID:event-2204@leo-network.com
DTSTAMP:20260423T224859Z
DTSTART:20230807T150000Z
DTEND:20230809T000000Z
SUMMARY:New Jersey Attorney General Guidelines & Directives
DESCRIPTION:Law Enforcement Training
Hosted by: J Harris Academy of Police Training

View event details:
https://www.leo-network.com/event/new-jersey-attorney-general-guidelines-directives-toms-river-nj-2204/
LOCATION:Toms River, NJ
URL:https://www.leo-network.com/event/new-jersey-attorney-general-guidelines-directives-toms-river-nj-2204/
END:VEVENT
END:VCALENDAR
