BEGIN:VCALENDAR
VERSION:2.0
PRODID:-//LEO Network//Training Calendar//EN
BEGIN:VEVENT
UID:event-2205@leo-network.com
DTSTAMP:20260423T135125Z
DTSTART:20230802T150000Z
DTEND:20230804T000000Z
SUMMARY:New Jersey Attorney General Guidelines & Directives
DESCRIPTION:Law Enforcement Training
Hosted by: J Harris Academy of Police Training

View event details:
https://www.leo-network.com/event/new-jersey-attorney-general-guidelines-directives-clark-nj-2205/
LOCATION:Clark, NJ
URL:https://www.leo-network.com/event/new-jersey-attorney-general-guidelines-directives-clark-nj-2205/
END:VEVENT
END:VCALENDAR
