BEGIN:VCALENDAR
VERSION:2.0
PRODID:-//LEO Network//Training Calendar//EN
BEGIN:VEVENT
UID:event-2219@leo-network.com
DTSTAMP:20260422T144535Z
DTSTART:20230911T150000Z
DTEND:20230912T000000Z
SUMMARY:The Gun Game
DESCRIPTION:Law Enforcement Training
Hosted by: Street Cop Training

View event details:
https://www.leo-network.com/event/the-gun-game-grand-rapids-mi-2219/
LOCATION:Grand Rapids, MI
URL:https://www.leo-network.com/event/the-gun-game-grand-rapids-mi-2219/
END:VEVENT
END:VCALENDAR
