BEGIN:VCALENDAR
VERSION:2.0
PRODID:-//LEO Network//Training Calendar//EN
BEGIN:VEVENT
UID:event-2242@leo-network.com
DTSTAMP:20260423T224617Z
DTSTART:20230821T150000Z
DTEND:20230826T000000Z
SUMMARY:Command Series Level 1: Developing First Line Supervisors
DESCRIPTION:Law Enforcement Training
Hosted by: J Harris Academy of Police Training

View event details:
https://www.leo-network.com/event/command-series-level-1-developing-first-line-supervisors-hobbs-nm-2242/
LOCATION:Hobbs, NM
URL:https://www.leo-network.com/event/command-series-level-1-developing-first-line-supervisors-hobbs-nm-2242/
END:VEVENT
END:VCALENDAR
