BEGIN:VCALENDAR
VERSION:2.0
PRODID:-//LEO Network//Training Calendar//EN
BEGIN:VEVENT
UID:event-2243@leo-network.com
DTSTAMP:20260424T205111Z
DTSTART:20231016T150000Z
DTEND:20231020T000000Z
SUMMARY:Command Series Level 1: Developing First Line Supervisors
DESCRIPTION:Law Enforcement Training
Hosted by: J Harris Academy of Police Training

View event details:
https://www.leo-network.com/event/command-series-level-1-developing-first-line-supervisors-arvada-co-2243/
LOCATION:Arvada, CO
URL:https://www.leo-network.com/event/command-series-level-1-developing-first-line-supervisors-arvada-co-2243/
END:VEVENT
END:VCALENDAR
