BEGIN:VCALENDAR
VERSION:2.0
PRODID:-//LEO Network//Training Calendar//EN
BEGIN:VEVENT
UID:event-2246@leo-network.com
DTSTAMP:20260423T104705Z
DTSTART:20230712T150000Z
DTEND:20230713T000000Z
SUMMARY:Dispatch Training
DESCRIPTION:Law Enforcement Training
Hosted by: J Harris Academy of Police Training

View event details:
https://www.leo-network.com/event/dispatch-training-union-nj-2246/
LOCATION:Union, NJ
URL:https://www.leo-network.com/event/dispatch-training-union-nj-2246/
END:VEVENT
END:VCALENDAR
