BEGIN:VCALENDAR
VERSION:2.0
PRODID:-//LEO Network//Training Calendar//EN
BEGIN:VEVENT
UID:event-2249@leo-network.com
DTSTAMP:20260424T075655Z
DTSTART:20230921T150000Z
DTEND:20230922T000000Z
SUMMARY:NJ Firearms Licensing 
DESCRIPTION:Law Enforcement Training
Hosted by: J Harris Academy of Police Training

View event details:
https://www.leo-network.com/event/nj-firearms-licensing-matawan-nj-2249/
LOCATION:Matawan, NJ
URL:https://www.leo-network.com/event/nj-firearms-licensing-matawan-nj-2249/
END:VEVENT
END:VCALENDAR
