BEGIN:VCALENDAR
VERSION:2.0
PRODID:-//LEO Network//Training Calendar//EN
BEGIN:VEVENT
UID:event-2250@leo-network.com
DTSTAMP:20260424T114737Z
DTSTART:20230928T150000Z
DTEND:20230929T000000Z
SUMMARY:NJ Open Public Records (OPRA) 
DESCRIPTION:Law Enforcement Training
Hosted by: J Harris Academy of Police Training

View event details:
https://www.leo-network.com/event/nj-open-public-records-opra-cookstown-nj-2250/
LOCATION:Cookstown, NJ
URL:https://www.leo-network.com/event/nj-open-public-records-opra-cookstown-nj-2250/
END:VEVENT
END:VCALENDAR
