BEGIN:VCALENDAR
VERSION:2.0
PRODID:-//LEO Network//Training Calendar//EN
BEGIN:VEVENT
UID:event-2251@leo-network.com
DTSTAMP:20260424T102135Z
DTSTART:20231204T160000Z
DTEND:20231207T010000Z
SUMMARY:Internal Affairs Investigator
DESCRIPTION:Law Enforcement Training
Hosted by: J Harris Academy of Police Training

View event details:
https://www.leo-network.com/event/internal-affairs-investigator-matawan-nj-2251/
LOCATION:Matawan, NJ
URL:https://www.leo-network.com/event/internal-affairs-investigator-matawan-nj-2251/
END:VEVENT
END:VCALENDAR
