BEGIN:VCALENDAR
VERSION:2.0
PRODID:-//LEO Network//Training Calendar//EN
BEGIN:VEVENT
UID:event-2252@leo-network.com
DTSTAMP:20260424T101751Z
DTSTART:20231127T160000Z
DTEND:20231128T010000Z
SUMMARY:Case Law: Road Cop Essentials
DESCRIPTION:Law Enforcement Training
Hosted by: J Harris Academy of Police Training

View event details:
https://www.leo-network.com/event/case-law-road-cop-essentials-matawan-nj-2252/
LOCATION:Matawan, NJ
URL:https://www.leo-network.com/event/case-law-road-cop-essentials-matawan-nj-2252/
END:VEVENT
END:VCALENDAR
