BEGIN:VCALENDAR
VERSION:2.0
PRODID:-//LEO Network//Training Calendar//EN
BEGIN:VEVENT
UID:event-2254@leo-network.com
DTSTAMP:20260424T101917Z
DTSTART:20231102T150000Z
DTEND:20231103T000000Z
SUMMARY:Road Sergeant Tune-Up
DESCRIPTION:Law Enforcement Training
Hosted by: J Harris Academy of Police Training

View event details:
https://www.leo-network.com/event/road-sergeant-tune-up-matawan-nj-2254/
LOCATION:Matawan, NJ
URL:https://www.leo-network.com/event/road-sergeant-tune-up-matawan-nj-2254/
END:VEVENT
END:VCALENDAR
