BEGIN:VCALENDAR
VERSION:2.0
PRODID:-//LEO Network//Training Calendar//EN
BEGIN:VEVENT
UID:event-2263@leo-network.com
DTSTAMP:20260421T153821Z
DTSTART:20231113T160000Z
DTEND:20231114T010000Z
SUMMARY:De-Escalation and Crisis Intervention
DESCRIPTION:Law Enforcement Training
Hosted by: Street Cop Training

View event details:
https://www.leo-network.com/event/de-escalation-and-crisis-intervention-rensselaer-ny-2263/
LOCATION:Rensselaer, NY
URL:https://www.leo-network.com/event/de-escalation-and-crisis-intervention-rensselaer-ny-2263/
END:VEVENT
END:VCALENDAR
