BEGIN:VCALENDAR
VERSION:2.0
PRODID:-//LEO Network//Training Calendar//EN
BEGIN:VEVENT
UID:event-2275@leo-network.com
DTSTAMP:20260423T102502Z
DTSTART:20230628T150000Z
DTEND:20230630T000000Z
SUMMARY:Verbal De-Escalation and Crisis Communication Skills
DESCRIPTION:Law Enforcement Training
Hosted by: Legal and Liability Risk Management Institute

View event details:
https://www.leo-network.com/event/verbal-de-escalation-and-crisis-communication-skills-stapleton-al-2275/
LOCATION:Stapleton, AL
URL:https://www.leo-network.com/event/verbal-de-escalation-and-crisis-communication-skills-stapleton-al-2275/
END:VEVENT
END:VCALENDAR
