BEGIN:VCALENDAR
VERSION:2.0
PRODID:-//LEO Network//Training Calendar//EN
BEGIN:VEVENT
UID:event-2283@leo-network.com
DTSTAMP:20260421T141419Z
DTSTART:20230912T150000Z
DTEND:20230913T000000Z
SUMMARY:Body Language for Law Enforcement
DESCRIPTION:Law Enforcement Training
Hosted by: Street Cop Training

View event details:
https://www.leo-network.com/event/body-language-for-law-enforcement-daytona-beach-fl-2283/
LOCATION:Daytona Beach, FL
URL:https://www.leo-network.com/event/body-language-for-law-enforcement-daytona-beach-fl-2283/
END:VEVENT
END:VCALENDAR
