BEGIN:VCALENDAR
VERSION:2.0
PRODID:-//LEO Network//Training Calendar//EN
BEGIN:VEVENT
UID:event-2284@leo-network.com
DTSTAMP:20260422T154941Z
DTSTART:20231005T150000Z
DTEND:20231006T000000Z
SUMMARY:Body Language for Law Enforcement
DESCRIPTION:Law Enforcement Training
Hosted by: Street Cop Training

View event details:
https://www.leo-network.com/event/body-language-for-law-enforcement-madisonville-ky-2284/
LOCATION:Madisonville, KY
URL:https://www.leo-network.com/event/body-language-for-law-enforcement-madisonville-ky-2284/
END:VEVENT
END:VCALENDAR
