BEGIN:VCALENDAR
VERSION:2.0
PRODID:-//LEO Network//Training Calendar//EN
BEGIN:VEVENT
UID:event-2287@leo-network.com
DTSTAMP:20260423T115053Z
DTSTART:20231215T160000Z
DTEND:20231216T010000Z
SUMMARY:Body Language for Law Enforcement
DESCRIPTION:Law Enforcement Training
Hosted by: Street Cop Training

View event details:
https://www.leo-network.com/event/body-language-for-law-enforcement-garner-nc-2287/
LOCATION:Garner, NC
URL:https://www.leo-network.com/event/body-language-for-law-enforcement-garner-nc-2287/
END:VEVENT
END:VCALENDAR
