BEGIN:VCALENDAR
VERSION:2.0
PRODID:-//LEO Network//Training Calendar//EN
BEGIN:VEVENT
UID:event-2295@leo-network.com
DTSTAMP:20260423T114336Z
DTSTART:20231214T160000Z
DTEND:20231215T010000Z
SUMMARY:Unmasking Facial Expressions
DESCRIPTION:Law Enforcement Training
Hosted by: Street Cop Training

View event details:
https://www.leo-network.com/event/unmasking-facial-expressions-garner-nc-2295/
LOCATION:Garner, NC
URL:https://www.leo-network.com/event/unmasking-facial-expressions-garner-nc-2295/
END:VEVENT
END:VCALENDAR
