BEGIN:VCALENDAR
VERSION:2.0
PRODID:-//LEO Network//Training Calendar//EN
BEGIN:VEVENT
UID:event-2296@leo-network.com
DTSTAMP:20260423T115108Z
DTSTART:20231218T160000Z
DTEND:20231219T010000Z
SUMMARY:Unmasking Facial Expressions
DESCRIPTION:Law Enforcement Training
Hosted by: Street Cop Training

View event details:
https://www.leo-network.com/event/unmasking-facial-expressions-asheville-nc-2296/
LOCATION:Asheville, NC
URL:https://www.leo-network.com/event/unmasking-facial-expressions-asheville-nc-2296/
END:VEVENT
END:VCALENDAR
