BEGIN:VCALENDAR
VERSION:2.0
PRODID:-//LEO Network//Training Calendar//EN
BEGIN:VEVENT
UID:event-2298@leo-network.com
DTSTAMP:20260421T210015Z
DTSTART:20231002T150000Z
DTEND:20231003T000000Z
SUMMARY:Body Worn Camera: Tactics for Effective Use
DESCRIPTION:Law Enforcement Training
Hosted by: J Harris Academy of Police Training

View event details:
https://www.leo-network.com/event/body-worn-camera-tactics-for-effective-use-newtown-ct-2298/
LOCATION:Newtown, CT
URL:https://www.leo-network.com/event/body-worn-camera-tactics-for-effective-use-newtown-ct-2298/
END:VEVENT
END:VCALENDAR
