BEGIN:VCALENDAR
VERSION:2.0
PRODID:-//LEO Network//Training Calendar//EN
BEGIN:VEVENT
UID:event-2307@leo-network.com
DTSTAMP:20260423T115144Z
DTSTART:20230801T150000Z
DTEND:20230802T000000Z
SUMMARY:North Carolina Case Law That All Cops Need To Know
DESCRIPTION:Law Enforcement Training
Hosted by: Street Cop Training

View event details:
https://www.leo-network.com/event/north-carolina-case-law-that-all-cops-need-to-know-garner-nc-2307/
LOCATION:Garner, NC
URL:https://www.leo-network.com/event/north-carolina-case-law-that-all-cops-need-to-know-garner-nc-2307/
END:VEVENT
END:VCALENDAR
