BEGIN:VCALENDAR
VERSION:2.0
PRODID:-//LEO Network//Training Calendar//EN
BEGIN:VEVENT
UID:event-2313@leo-network.com
DTSTAMP:20260422T144630Z
DTSTART:20230901T150000Z
DTEND:20230902T000000Z
SUMMARY:North Dakota Case Law That All Cops Need To Know
DESCRIPTION:Law Enforcement Training
Hosted by: Street Cop Training

View event details:
https://www.leo-network.com/event/north-dakota-case-law-that-all-cops-need-to-know-hettinger-nd-2313/
LOCATION:Hettinger, ND
URL:https://www.leo-network.com/event/north-dakota-case-law-that-all-cops-need-to-know-hettinger-nd-2313/
END:VEVENT
END:VCALENDAR
