BEGIN:VCALENDAR
VERSION:2.0
PRODID:-//LEO Network//Training Calendar//EN
BEGIN:VEVENT
UID:event-2334@leo-network.com
DTSTAMP:20260423T100542Z
DTSTART:20240108T160000Z
DTEND:20240109T010000Z
SUMMARY:West Virginia Case Law That All Cops Need To Know
DESCRIPTION:Law Enforcement Training
Hosted by: Street Cop Training

View event details:
https://www.leo-network.com/event/west-virginia-case-law-that-all-cops-need-to-know-wheeling-wv-2334/
LOCATION:Wheeling, WV
URL:https://www.leo-network.com/event/west-virginia-case-law-that-all-cops-need-to-know-wheeling-wv-2334/
END:VEVENT
END:VCALENDAR
