BEGIN:VCALENDAR
VERSION:2.0
PRODID:-//LEO Network//Training Calendar//EN
BEGIN:VEVENT
UID:event-2338@leo-network.com
DTSTAMP:20260422T184710Z
DTSTART:20230821T150000Z
DTEND:20230822T000000Z
SUMMARY:Auto Theft and Vehicle Crimes
DESCRIPTION:Law Enforcement Training
Hosted by: Street Cop Training

View event details:
https://www.leo-network.com/event/auto-theft-and-vehicle-crimes-universal-city-tx-2338/
LOCATION:Universal City, TX
URL:https://www.leo-network.com/event/auto-theft-and-vehicle-crimes-universal-city-tx-2338/
END:VEVENT
END:VCALENDAR
