BEGIN:VCALENDAR
VERSION:2.0
PRODID:-//LEO Network//Training Calendar//EN
BEGIN:VEVENT
UID:event-2341@leo-network.com
DTSTAMP:20260423T061200Z
DTSTART:20231106T160000Z
DTEND:20231107T010000Z
SUMMARY:Auto Theft and Vehicle Crimes
DESCRIPTION:Law Enforcement Training
Hosted by: Street Cop Training

View event details:
https://www.leo-network.com/event/auto-theft-and-vehicle-crimes-germantown-tn-2341/
LOCATION:Germantown, TN
URL:https://www.leo-network.com/event/auto-theft-and-vehicle-crimes-germantown-tn-2341/
END:VEVENT
END:VCALENDAR
