BEGIN:VCALENDAR
VERSION:2.0
PRODID:-//LEO Network//Training Calendar//EN
BEGIN:VEVENT
UID:event-2359@leo-network.com
DTSTAMP:20260423T040818Z
DTSTART:20230818T150000Z
DTEND:20230819T000000Z
SUMMARY:Effective Interview and Interrogation Techniques
DESCRIPTION:Law Enforcement Training
Hosted by: Street Cop Training

View event details:
https://www.leo-network.com/event/effective-interview-and-interrogation-techniques-goffstown-nh-2359/
LOCATION:Goffstown , NH
URL:https://www.leo-network.com/event/effective-interview-and-interrogation-techniques-goffstown-nh-2359/
END:VEVENT
END:VCALENDAR
