BEGIN:VCALENDAR
VERSION:2.0
PRODID:-//LEO Network//Training Calendar//EN
BEGIN:VEVENT
UID:event-2361@leo-network.com
DTSTAMP:20260422T184738Z
DTSTART:20231025T150000Z
DTEND:20231026T000000Z
SUMMARY:Effective Interview and Interrogation Techniques
DESCRIPTION:Law Enforcement Training
Hosted by: Street Cop Training

View event details:
https://www.leo-network.com/event/effective-interview-and-interrogation-techniques-universal-city-tx-2361/
LOCATION:Universal City, TX
URL:https://www.leo-network.com/event/effective-interview-and-interrogation-techniques-universal-city-tx-2361/
END:VEVENT
END:VCALENDAR
