BEGIN:VCALENDAR
VERSION:2.0
PRODID:-//LEO Network//Training Calendar//EN
BEGIN:VEVENT
UID:event-2362@leo-network.com
DTSTAMP:20260421T153904Z
DTSTART:20230807T150000Z
DTEND:20230808T000000Z
SUMMARY:Effective Interview and Interrogation Techniques
DESCRIPTION:Law Enforcement Training
Hosted by: Street Cop Training

View event details:
https://www.leo-network.com/event/effective-interview-and-interrogation-techniques-bethlehem-pa-2362/
LOCATION:Bethlehem , PA
URL:https://www.leo-network.com/event/effective-interview-and-interrogation-techniques-bethlehem-pa-2362/
END:VEVENT
END:VCALENDAR
