BEGIN:VCALENDAR
VERSION:2.0
PRODID:-//LEO Network//Training Calendar//EN
BEGIN:VEVENT
UID:event-2371@leo-network.com
DTSTAMP:20260422T172248Z
DTSTART:20230912T150000Z
DTEND:20230915T000000Z
SUMMARY:Forensic Handwriting Analysis
DESCRIPTION:Law Enforcement Training
Hosted by: Cold Case Foundation

View event details:
https://www.leo-network.com/event/forensic-handwriting-analysis-ada-ok-2371/
LOCATION:Ada, OK
URL:https://www.leo-network.com/event/forensic-handwriting-analysis-ada-ok-2371/
END:VEVENT
END:VCALENDAR
