BEGIN:VCALENDAR
VERSION:2.0
PRODID:-//LEO Network//Training Calendar//EN
BEGIN:VEVENT
UID:event-2386@leo-network.com
DTSTAMP:20260421T153828Z
DTSTART:20240212T160000Z
DTEND:20240213T010000Z
SUMMARY:Effective Policing Skills & Tactics
DESCRIPTION:Law Enforcement Training
Hosted by: Street Cop Training

View event details:
https://www.leo-network.com/event/effective-policing-skills-tactics-bethlehem-pa-2386/
LOCATION:Bethlehem , PA
URL:https://www.leo-network.com/event/effective-policing-skills-tactics-bethlehem-pa-2386/
END:VEVENT
END:VCALENDAR
