BEGIN:VCALENDAR
VERSION:2.0
PRODID:-//LEO Network//Training Calendar//EN
BEGIN:VEVENT
UID:event-2387@leo-network.com
DTSTAMP:20260421T030654Z
DTSTART:20240311T150000Z
DTEND:20240312T000000Z
SUMMARY:Effective Policing Skills & Tactics
DESCRIPTION:Law Enforcement Training
Hosted by: Street Cop Training

View event details:
https://www.leo-network.com/event/effective-policing-skills-tactics-beaufort-sc-2387/
LOCATION:Beaufort, SC
URL:https://www.leo-network.com/event/effective-policing-skills-tactics-beaufort-sc-2387/
END:VEVENT
END:VCALENDAR
