BEGIN:VCALENDAR
VERSION:2.0
PRODID:-//LEO Network//Training Calendar//EN
BEGIN:VEVENT
UID:event-2397@leo-network.com
DTSTAMP:20260424T030533Z
DTSTART:20231010T150000Z
DTEND:20231014T000000Z
SUMMARY:Understanding the Mexican Cartels and Narco Cultura
DESCRIPTION:Law Enforcement Training
Hosted by: The Vigilance Project

View event details:
https://www.leo-network.com/event/understanding-the-mexican-cartels-and-narco-cultura-santa-fe-nm-2397/
LOCATION:Santa Fe, NM
URL:https://www.leo-network.com/event/understanding-the-mexican-cartels-and-narco-cultura-santa-fe-nm-2397/
END:VEVENT
END:VCALENDAR
