BEGIN:VCALENDAR
VERSION:2.0
PRODID:-//LEO Network//Training Calendar//EN
BEGIN:VEVENT
UID:event-2403@leo-network.com
DTSTAMP:20260422T161353Z
DTSTART:20230920T150000Z
DTEND:20230921T000000Z
SUMMARY:The Complete Female Cop
DESCRIPTION:Law Enforcement Training
Hosted by: Street Cop Training

View event details:
https://www.leo-network.com/event/the-complete-female-cop-manchester-mo-2403/
LOCATION:Manchester, MO
URL:https://www.leo-network.com/event/the-complete-female-cop-manchester-mo-2403/
END:VEVENT
END:VCALENDAR
