BEGIN:VCALENDAR
VERSION:2.0
PRODID:-//LEO Network//Training Calendar//EN
BEGIN:VEVENT
UID:event-2414@leo-network.com
DTSTAMP:20260424T000510Z
DTSTART:20230830T150000Z
DTEND:20230831T000000Z
SUMMARY:Case Law: Road Cop Essentials
DESCRIPTION:Law Enforcement Training
Hosted by: J Harris Academy of Police Training

View event details:
https://www.leo-network.com/event/case-law-road-cop-essentials-jersey-city-nj-2414/
LOCATION:Jersey City, NJ
URL:https://www.leo-network.com/event/case-law-road-cop-essentials-jersey-city-nj-2414/
END:VEVENT
END:VCALENDAR
