BEGIN:VCALENDAR
VERSION:2.0
PRODID:-//LEO Network//Training Calendar//EN
BEGIN:VEVENT
UID:event-2429@leo-network.com
DTSTAMP:20260422T155030Z
DTSTART:20230815T150000Z
DTEND:20230816T000000Z
SUMMARY:FC099 Basic Level Spreadsheeting Skills
DESCRIPTION:Law Enforcement Training
Hosted by: NW3C, Inc.

View event details:
https://www.leo-network.com/event/fc099-basic-level-spreadsheeting-skills-topeka-ks-2429/
LOCATION:Topeka, KS
URL:https://www.leo-network.com/event/fc099-basic-level-spreadsheeting-skills-topeka-ks-2429/
END:VEVENT
END:VCALENDAR
