BEGIN:VCALENDAR
VERSION:2.0
PRODID:-//LEO Network//Training Calendar//EN
BEGIN:VEVENT
UID:event-2464@leo-network.com
DTSTAMP:20260422T144535Z
DTSTART:20231113T160000Z
DTEND:20231115T010000Z
SUMMARY:Vehicle Extractions
DESCRIPTION:Law Enforcement Training
Hosted by: STORM Training Group

View event details:
https://www.leo-network.com/event/vehicle-extractions-west-fargo-nd-2464/
LOCATION:West Fargo, ND
URL:https://www.leo-network.com/event/vehicle-extractions-west-fargo-nd-2464/
END:VEVENT
END:VCALENDAR
