BEGIN:VCALENDAR
VERSION:2.0
PRODID:-//LEO Network//Training Calendar//EN
BEGIN:VEVENT
UID:event-2508@leo-network.com
DTSTAMP:20260422T161502Z
DTSTART:20230921T150000Z
DTEND:20230922T000000Z
SUMMARY:Be The Change
DESCRIPTION:Law Enforcement Training
Hosted by: Street Cop Training

View event details:
https://www.leo-network.com/event/be-the-change-manchester-mo-2508/
LOCATION:Manchester, MO
URL:https://www.leo-network.com/event/be-the-change-manchester-mo-2508/
END:VEVENT
END:VCALENDAR
