BEGIN:VCALENDAR
VERSION:2.0
PRODID:-//LEO Network//Training Calendar//EN
BEGIN:VEVENT
UID:event-2517@leo-network.com
DTSTAMP:20260421T130524Z
DTSTART:20231023T150000Z
DTEND:20231026T000000Z
SUMMARY:Meeting the Leadership Challenges of Law Enforcement 
DESCRIPTION:Law Enforcement Training
Hosted by: Legal and Liability Risk Management Institute

View event details:
https://www.leo-network.com/event/meeting-the-leadership-challenges-of-law-enforcement-cape-coral-fl-2517/
LOCATION:Cape Coral, FL
URL:https://www.leo-network.com/event/meeting-the-leadership-challenges-of-law-enforcement-cape-coral-fl-2517/
END:VEVENT
END:VCALENDAR
