BEGIN:VCALENDAR
VERSION:2.0
PRODID:-//LEO Network//Training Calendar//EN
BEGIN:VEVENT
UID:event-2518@leo-network.com
DTSTAMP:20260422T161517Z
DTSTART:20231030T150000Z
DTEND:20231002T000000Z
SUMMARY:Meeting the Leadership Challenges of Law Enforcement 
DESCRIPTION:Law Enforcement Training
Hosted by: Legal and Liability Risk Management Institute

View event details:
https://www.leo-network.com/event/meeting-the-leadership-challenges-of-law-enforcement-manchester-mo-2518/
LOCATION:Manchester, MO
URL:https://www.leo-network.com/event/meeting-the-leadership-challenges-of-law-enforcement-manchester-mo-2518/
END:VEVENT
END:VCALENDAR
