BEGIN:VCALENDAR
VERSION:2.0
PRODID:-//LEO Network//Training Calendar//EN
BEGIN:VEVENT
UID:event-2520@leo-network.com
DTSTAMP:20260421T064402Z
DTSTART:20230918T150000Z
DTEND:20230923T000000Z
SUMMARY:Mastering the Leadership Challenges of Law Enforcement
DESCRIPTION:Law Enforcement Training
Hosted by: Legal and Liability Risk Management Institute

View event details:
https://www.leo-network.com/event/mastering-the-leadership-challenges-of-law-enforcement-thornton-co-2520/
LOCATION:Thornton, CO
URL:https://www.leo-network.com/event/mastering-the-leadership-challenges-of-law-enforcement-thornton-co-2520/
END:VEVENT
END:VCALENDAR
