BEGIN:VCALENDAR
VERSION:2.0
PRODID:-//LEO Network//Training Calendar//EN
BEGIN:VEVENT
UID:event-2526@leo-network.com
DTSTAMP:20260422T010539Z
DTSTART:20231025T150000Z
DTEND:20231027T000000Z
SUMMARY:Critical Task in Jail/Correction Operations Reducing Liability
DESCRIPTION:Law Enforcement Training
Hosted by: Legal and Liability Risk Management Institute

View event details:
https://www.leo-network.com/event/critical-task-in-jail-correction-operations-reducing-liability-dfw-airport-tx-2526/
LOCATION:DFW Airport, TX
URL:https://www.leo-network.com/event/critical-task-in-jail-correction-operations-reducing-liability-dfw-airport-tx-2526/
END:VEVENT
END:VCALENDAR
