BEGIN:VCALENDAR
VERSION:2.0
PRODID:-//LEO Network//Training Calendar//EN
BEGIN:VEVENT
UID:event-2532@leo-network.com
DTSTAMP:20260423T061232Z
DTSTART:20231113T160000Z
DTEND:20231118T010000Z
SUMMARY:5 Day Cellular Technology and Forensics (CTF) Certification
DESCRIPTION:Law Enforcement Training
Hosted by: Legal and Liability Risk Management Institute

View event details:
https://www.leo-network.com/event/5-day-cellular-technology-and-forensics-ctf-certification-gatlinburg-tn-2532/
LOCATION:Gatlinburg, TN
URL:https://www.leo-network.com/event/5-day-cellular-technology-and-forensics-ctf-certification-gatlinburg-tn-2532/
END:VEVENT
END:VCALENDAR
