BEGIN:VCALENDAR
VERSION:2.0
PRODID:-//LEO Network//Training Calendar//EN
BEGIN:VEVENT
UID:event-2533@leo-network.com
DTSTAMP:20260423T061232Z
DTSTART:20231113T160000Z
DTEND:20231118T010000Z
SUMMARY:Internal Affairs Certification for Jails
DESCRIPTION:Law Enforcement Training
Hosted by: Legal and Liability Risk Management Institute

View event details:
https://www.leo-network.com/event/internal-affairs-certification-for-jails-gatlinburg-tn-2533/
LOCATION:Gatlinburg, TN
URL:https://www.leo-network.com/event/internal-affairs-certification-for-jails-gatlinburg-tn-2533/
END:VEVENT
END:VCALENDAR
