BEGIN:VCALENDAR
VERSION:2.0
PRODID:-//LEO Network//Training Calendar//EN
BEGIN:VEVENT
UID:event-2534@leo-network.com
DTSTAMP:20260423T063137Z
DTSTART:20231113T160000Z
DTEND:20231116T010000Z
SUMMARY:Investigating Cases of Child Homicide and Unexplained Deaths of Children Conference
DESCRIPTION:Law Enforcement Training
Hosted by: Legal and Liability Risk Management Institute

View event details:
https://www.leo-network.com/event/investigating-cases-of-child-homicide-and-unexplained-deaths-of-children-conference-gatlinburg-tn-2534/
LOCATION:Gatlinburg, TN
URL:https://www.leo-network.com/event/investigating-cases-of-child-homicide-and-unexplained-deaths-of-children-conference-gatlinburg-tn-2534/
END:VEVENT
END:VCALENDAR
