BEGIN:VCALENDAR
VERSION:2.0
PRODID:-//LEO Network//Training Calendar//EN
BEGIN:VEVENT
UID:event-2537@leo-network.com
DTSTAMP:20260422T161517Z
DTSTART:20230926T150000Z
DTEND:20230930T000000Z
SUMMARY:Death and Homicide Investigation Conference: Training in Areas Not Normally Included
DESCRIPTION:Law Enforcement Training
Hosted by: Legal and Liability Risk Management Institute

View event details:
https://www.leo-network.com/event/death-and-homicide-investigation-conference-training-in-areas-not-normally-included-st-charles-mo-2537/
LOCATION:St. Charles, MO
URL:https://www.leo-network.com/event/death-and-homicide-investigation-conference-training-in-areas-not-normally-included-st-charles-mo-2537/
END:VEVENT
END:VCALENDAR
